BEGIN:VCALENDAR
VERSION:2.0
PRODID:-//Tamperelainen Kokoomus - ECPv4.8.1//NONSGML v1.0//EN
CALSCALE:GREGORIAN
METHOD:PUBLISH
X-WR-CALNAME:Tamperelainen Kokoomus
X-ORIGINAL-URL:http://www.tamperelainenkokoomus.fi
X-WR-CALDESC:Tapahtumat Tamperelainen Kokoomus
BEGIN:VEVENT
DTSTART;TZID=Europe/Helsinki:20210609T190000
DTEND;TZID=Europe/Helsinki:20210609T200000
DTSTAMP:20260423T120459
CREATED:20210608T093642Z
LAST-MODIFIED:20210608T093642Z
UID:3945-1623265200-1623268800@www.tamperelainenkokoomus.fi
SUMMARY:Antti Häkkänen Hämeenkadulla ke 9.6. klo 19-19.55!
DESCRIPTION:Antti Häkkänen ja kuntavaaliehdokkaamme tulevat tapaamaan sinua Hämeenkadulle keskiviikkona 9.6. klo 19-19.55. Olemme Hämeenkadulla Koskipuiston vieressä. \n  \nNoudatamme koronaohjeistuksia ja teemme kampanjointia turvallisesti. \n
URL:http://www.tamperelainenkokoomus.fi/tapahtuma/antti-hakkanen-hameenkadulla-ke-9-6-klo-19-19-55/
END:VEVENT
END:VCALENDAR