BEGIN:VCALENDAR
VERSION:2.0
PRODID:-//Tamperelainen Kokoomus - ECPv4.8.1//NONSGML v1.0//EN
CALSCALE:GREGORIAN
METHOD:PUBLISH
X-WR-CALNAME:Tamperelainen Kokoomus
X-ORIGINAL-URL:http://www.tamperelainenkokoomus.fi
X-WR-CALDESC:Tapahtumat Tamperelainen Kokoomus
BEGIN:VEVENT
DTSTART;TZID=Europe/Helsinki:20211027T163000
DTEND;TZID=Europe/Helsinki:20211027T200000
DTSTAMP:20260423T185123
CREATED:20211020T080034Z
LAST-MODIFIED:20211020T080034Z
UID:4043-1635352200-1635364800@www.tamperelainenkokoomus.fi
SUMMARY:Kokoomuksen Tampereen Aluejärjestön sääntömääräinen syyskokous 27.10.2021 klo 16.30
DESCRIPTION:Lämpimästi tervetuloa Kokoomuksen Tampereen Aluejärjestön sääntömääräiseen syyskokoukseen keskiviikkona 27.10. klo 16.30 alkaen! Valtakirjojen tarkistus alkaa klo 16.30\, varsinainen kokous klo 17.00. Syyskokous järjestetään pääkirjasto Metsolla\, Kuusi-salissa. \n  \nKokouskutsut ovat lähetetty yhdistyksille. Jäsenyhdistyksillä on oikeus lähettää syyskokoukseen äänivaltaisia kokousedustajia kokouskutsussa olevan liitteen mukaisesti. \n
URL:http://www.tamperelainenkokoomus.fi/tapahtuma/kokoomuksen-tampereen-aluejarjeston-saantomaarainen-syyskokous-27-10-2021-klo-16-30/
CATEGORIES:Kokoukset
END:VEVENT
END:VCALENDAR