BEGIN:VCALENDAR
VERSION:2.0
PRODID:-//Tamperelainen Kokoomus - ECPv4.8.1//NONSGML v1.0//EN
CALSCALE:GREGORIAN
METHOD:PUBLISH
X-WR-CALNAME:Tamperelainen Kokoomus
X-ORIGINAL-URL:http://www.tamperelainenkokoomus.fi
X-WR-CALDESC:Tapahtumat Tamperelainen Kokoomus
BEGIN:VEVENT
DTSTART;TZID=Europe/Helsinki:20201024T120000
DTEND;TZID=Europe/Helsinki:20201024T131500
DTSTAMP:20260423T041426
CREATED:20201021T085455Z
LAST-MODIFIED:20201021T085455Z
UID:3367-1603540800-1603545300@www.tamperelainenkokoomus.fi
SUMMARY:Kokoomus kävelee ja kuuntelee!
DESCRIPTION:Kokoomus kävelee ja kuuntelee! \n\nKokoomus kävelee ja kuuntelee Pyynikillä lauantaina 24.10 klo 12-13.15!\n\nPaikallisoppaana toimii varavaltuutettu Ilpo Rantanen. Mukana myös Pirkanmaan Kokoomusnuoret sekä muut Kokoomuksen kuntavaaliohjelman vastuuhenkilöt; kaupunginvaltuutettu Anne-Mari Jussila\, apulaispormestari Aleksi Jäntti ja Kokoomuksen Tampereen Aluejärjestön hallituksen jäsen Raimo Tihveräinen.\n\nTule nauttimaan Tampereen historiallisesta miljööstä ja kerro ajatuksiasi kaupungin kehittämistarpeista. 75 minuutin kävelykierroksen lähtö klo 12 Pyynikin näkötornilta.\n\nHuolehdimme myös turvaväleistä sekä asianmukaisesta hygieniasta.\n\nLämpimästi tervetuloa! \n\nFacebook -tapahtuman löydät täältä.\n
URL:http://www.tamperelainenkokoomus.fi/tapahtuma/kokoomus-kavelee-ja-kuuntelee/
ATTACH;FMTTYPE=image/png:http://www.tamperelainenkokoomus.fi/app/uploads/2020/10/fb-kansikuva-VALMIS_Kokoomus-kävelee-ja-kuuntelee.png
END:VEVENT
END:VCALENDAR