BEGIN:VCALENDAR
VERSION:2.0
PRODID:-//Tamperelainen Kokoomus - ECPv4.8.1//NONSGML v1.0//EN
CALSCALE:GREGORIAN
METHOD:PUBLISH
X-WR-CALNAME:Tamperelainen Kokoomus
X-ORIGINAL-URL:http://www.tamperelainenkokoomus.fi
X-WR-CALDESC:Tapahtumat Tamperelainen Kokoomus
BEGIN:VEVENT
DTSTART;TZID=Europe/Helsinki:20210612T130000
DTEND;TZID=Europe/Helsinki:20210612T150000
DTSTAMP:20260423T170806
CREATED:20210603T091148Z
LAST-MODIFIED:20210603T091148Z
UID:3938-1623502800-1623510000@www.tamperelainenkokoomus.fi
SUMMARY:Kokoomuslaisia Laukontorilla 12.6. klo 13-15
DESCRIPTION:Tulemme tapaamaan sinua Laukontorille lauantaina 12.6. klo 13-15. Noudatamme koronaturvallisia kohtaamisia. Näkemisiin! \n
URL:http://www.tamperelainenkokoomus.fi/tapahtuma/kokoomuslaisia-laukontorilla-12-6-klo-13-15/
END:VEVENT
END:VCALENDAR