BEGIN:VCALENDAR
VERSION:2.0
PRODID:-//Tamperelainen Kokoomus - ECPv4.8.1//NONSGML v1.0//EN
CALSCALE:GREGORIAN
METHOD:PUBLISH
X-WR-CALNAME:Tamperelainen Kokoomus
X-ORIGINAL-URL:http://www.tamperelainenkokoomus.fi
X-WR-CALDESC:Tapahtumat Tamperelainen Kokoomus
BEGIN:VEVENT
DTSTART;TZID=Europe/Helsinki:20211004T090000
DTEND;TZID=Europe/Helsinki:20211004T150000
DTSTAMP:20260423T170512
CREATED:20210929T111732Z
LAST-MODIFIED:20210929T111732Z
UID:4032-1633338000-1633359600@www.tamperelainenkokoomus.fi
SUMMARY:Kokoomuslaisia maanantaimarkkinoilla 4.10. klo 9-15!
DESCRIPTION:\nKokoomuslaisia Keskustorin maanantainamarkkinoilla 4.10. klo 9-15!\n\n\n\nNyt kun koronarajoituksia on saatu purettua\, on jälleen aika tavata myös kasvokkain! Järjestöväkemme pitää kokoomuksen telttaa maanantaimarkkinoilla klo 9-15. Paikalla myös klo 11-12 valtuutettu Ilkka Sasi.\n\n\n\nNähdään maanantaimarkkinoilla! \n\n
URL:http://www.tamperelainenkokoomus.fi/tapahtuma/kokoomuslaisia-maanantaimarkkinoilla-4-10-klo-9-15/
END:VEVENT
END:VCALENDAR