BEGIN:VCALENDAR
VERSION:2.0
PRODID:-//Tamperelainen Kokoomus - ECPv4.8.1//NONSGML v1.0//EN
CALSCALE:GREGORIAN
METHOD:PUBLISH
X-WR-CALNAME:Tamperelainen Kokoomus
X-ORIGINAL-URL:http://www.tamperelainenkokoomus.fi
X-WR-CALDESC:Tapahtumat Tamperelainen Kokoomus
BEGIN:VEVENT
DTSTART;TZID=Europe/Helsinki:20210607T090000
DTEND;TZID=Europe/Helsinki:20210607T150000
DTSTAMP:20260423T102848
CREATED:20210603T090957Z
LAST-MODIFIED:20210603T090957Z
UID:3933-1623056400-1623078000@www.tamperelainenkokoomus.fi
SUMMARY:Kokoomuslaisia maanantaimarkkinoilla 7.6. klo 9-15
DESCRIPTION:Tulemme tapaamaan sinua keskustorin maanantaimarkkinoille 7.6. klo 9-15. Noudatamme koronaohjeistusta. Tervetuloa! \n
URL:http://www.tamperelainenkokoomus.fi/tapahtuma/kokoomuslaisia-maanantaimarkkinoilla-7-6-klo-9-15/
END:VEVENT
END:VCALENDAR