BEGIN:VCALENDAR
VERSION:2.0
PRODID:-//Tamperelainen Kokoomus - ECPv4.8.1//NONSGML v1.0//EN
CALSCALE:GREGORIAN
METHOD:PUBLISH
X-WR-CALNAME:Tamperelainen Kokoomus
X-ORIGINAL-URL:http://www.tamperelainenkokoomus.fi
X-WR-CALDESC:Tapahtumat Tamperelainen Kokoomus
BEGIN:VEVENT
DTSTART;TZID=Europe/Helsinki:20210612T100000
DTEND;TZID=Europe/Helsinki:20210612T140000
DTSTAMP:20260423T135052
CREATED:20210603T091056Z
LAST-MODIFIED:20210603T091056Z
UID:3936-1623492000-1623506400@www.tamperelainenkokoomus.fi
SUMMARY:Kokoomuslaisia Tammelantorilla 12.6. klo 10-14
DESCRIPTION:Tulemme tapaamaan sinua Tammelantorille lauantaina 12.6. klo 10-14. Noudatamme koronaohjeistusta ja huolehdimme turvallisista kohtaamisista. Näkemisiin! \n
URL:http://www.tamperelainenkokoomus.fi/tapahtuma/kokoomuslaisia-tammelantorilla-12-6-klo-10-14/
END:VEVENT
END:VCALENDAR