BEGIN:VCALENDAR
VERSION:2.0
PRODID:-//Tamperelainen Kokoomus - ECPv4.8.1//NONSGML v1.0//EN
CALSCALE:GREGORIAN
METHOD:PUBLISH
X-WR-CALNAME:Tamperelainen Kokoomus
X-ORIGINAL-URL:http://www.tamperelainenkokoomus.fi
X-WR-CALDESC:Tapahtumat Tamperelainen Kokoomus
BEGIN:VEVENT
DTSTART;TZID=Europe/Helsinki:20201121T130000
DTEND;TZID=Europe/Helsinki:20201121T140000
DTSTAMP:20260423T003620
CREATED:20201119T144720Z
LAST-MODIFIED:20201119T144720Z
UID:3393-1605963600-1605967200@www.tamperelainenkokoomus.fi
SUMMARY:Menestyvä Tampere - kaupunkikehitys ja digitalisaatio
DESCRIPTION:Tule kuuntelemaan keskustelua menestyvän Tampereen reseptistä! \n\nTamperelainen kokoomus on julkaissut Menestyvä Tampere -kirjan yhteistyössä Ajatuspaja Toivon kanssa. Kirjan kirjoittajat ovat vahvoja asiantuntijoita\, keiltä ei näkemystä puutu. Voit tutustua koko julkaisuun myös verkossa osoitteessa https://toivoajatuspaja.fi/menestyva-tampere/\n\nJärjestämme kolmiosaisen Facebook -livesarjan Menestyvä Tampere -kirjan ympärille. Ensimmäisessä osassa keskustelemme kaupunkikehityksestä ja digitalisaatiosta.\n\nPuhujiksi tulevat apulaispormestari Aleksi Jäntti\, Kokoomuksen Tampereen Aluejärjestön puheenjohtaja Jouni Markkanen sekä Kokoomusnuorten liittohallituksen 2021 jäsen Ida Leino. Tapahtuman juontajana toimii musiikkipedagogi\, kevytyrittäjä Kalervo Kirveennummi.\n\nLinkki liveen julkaistaan Facebook -eventissä.\n\nLämpimästi tervetuloa! \n
URL:http://www.tamperelainenkokoomus.fi/tapahtuma/menestyva-tampere-kaupunkikehitys-ja-digitalisaatio/
ATTACH;FMTTYPE=image/png:http://www.tamperelainenkokoomus.fi/app/uploads/2020/11/Menestyvä-Tampere_kansikuva.png
END:VEVENT
END:VCALENDAR