BEGIN:VCALENDAR
VERSION:2.0
PRODID:-//Tamperelainen Kokoomus - ECPv4.8.1//NONSGML v1.0//EN
CALSCALE:GREGORIAN
METHOD:PUBLISH
X-WR-CALNAME:Tamperelainen Kokoomus
X-ORIGINAL-URL:http://www.tamperelainenkokoomus.fi
X-WR-CALDESC:Tapahtumat Tamperelainen Kokoomus
BEGIN:VEVENT
DTSTART;TZID=Europe/Helsinki:20210430T123000
DTEND;TZID=Europe/Helsinki:20210430T133000
DTSTAMP:20260423T072503
CREATED:20210427T061341Z
LAST-MODIFIED:20210427T061341Z
UID:3635-1619785800-1619789400@www.tamperelainenkokoomus.fi
SUMMARY:Porvarillinen vappujuhla 30.4. klo 12.30-13.45
DESCRIPTION:\n TERVETULOA PERINTEISEEN VAPPUJUHLAAN PERJANTAINA 30.4. KLO 12.30 ALKAEN \n\n\n\nVietämme perinteistä porvarillista vappujuhlaa tänä vuonna etänä. Pääset osallistumaan tapahtumaan osoitteessa www.bit.ly/ktavappu.\n\n\n\nJuhlapuhujina vappujuhlassamme ovat Anna-Kaisa Ikonen\, Kalervo Kummola sekä Henna Virkkunen. Esiintymässä ovat puolestaan Mieskuoron laulajat.\n\n\n\nNappaa siis mukaasi toiseen käteen lasi simaa\, toiseen käteen vappumunkki ja nähdään linjoilla!\n\n\nLisätietoja Facebook -eventissä täällä.\n\n\n
URL:http://www.tamperelainenkokoomus.fi/tapahtuma/porvarillinen-vappujuhla-30-4-klo-12-30-13-45/
END:VEVENT
END:VCALENDAR