BEGIN:VCALENDAR
VERSION:2.0
PRODID:-//Tamperelainen Kokoomus - ECPv4.8.1//NONSGML v1.0//EN
CALSCALE:GREGORIAN
METHOD:PUBLISH
X-WR-CALNAME:Tamperelainen Kokoomus
X-ORIGINAL-URL:http://www.tamperelainenkokoomus.fi
X-WR-CALDESC:Tapahtumat Tamperelainen Kokoomus
BEGIN:VEVENT
DTSTART;TZID=Europe/Helsinki:20200430T150000
DTEND;TZID=Europe/Helsinki:20200430T170000
DTSTAMP:20260423T054402
CREATED:20200421T052106Z
LAST-MODIFIED:20200423T161433Z
UID:3297-1588258800-1588266000@www.tamperelainenkokoomus.fi
SUMMARY:Vappukeskustelu
DESCRIPTION:Tervetuloa vapputapahtumaamme! \nKolmen tapahtuman sarjamme järjestetään Microsoft Teams -työkalulla\, jota varten tarvitset tietokoneen\, tabletin tai matkapuhelimen sekä nettiyhteyden. Tapahtumat järjestää Kokoomuksen Tampereen Aluejärjestö. \nJärjestämme sarjan päättävän\, kolmannen etätapahtuman torstaina 30.4. klo 15-17 kevyemmissä vapputunnelmissa. Tapahtumassa luvassa muun muassa puolueen entisen puheenjohtaja Alexander Stubbin kuulumiset\, vappupuhe\, vinkit etävappuun ja paljon muuta! \nPääset osallistumaan etätapahtumaan menemällä osoitteeseen www.bit.ly/porvarillinenvappu. \nLämpimästi tervetuloa! 🙌🏻 \n
URL:http://www.tamperelainenkokoomus.fi/tapahtuma/vappukeskustelu/
END:VEVENT
END:VCALENDAR